BEGIN:VCALENDAR
VERSION:2.0
PRODID:icalendar-ruby
CALSCALE:GREGORIAN
METHOD:PUBLISH
BEGIN:VTIMEZONE
TZID:Europe/London
BEGIN:DAYLIGHT
DTSTART:20260329T020000
TZOFFSETFROM:+0000
TZOFFSETTO:+0100
RRULE:FREQ=YEARLY;BYDAY=-1SU;BYMONTH=3
TZNAME:BST
END:DAYLIGHT
BEGIN:STANDARD
DTSTART:20261025T010000
TZOFFSETFROM:+0100
TZOFFSETTO:+0000
RRULE:FREQ=YEARLY;BYDAY=-1SU;BYMONTH=10
TZNAME:GMT
END:STANDARD
END:VTIMEZONE
BEGIN:VEVENT
DTSTAMP:20260420T155606Z
UID:uk-universities-and-the-arms-industry-challenging-militarisation
DTSTART;TZID=Europe/London:20260420T160000
DTEND;TZID=Europe/London:20260420T180000
LOCATION:A1.4 Lecture Theatre\, 31-37 St. Michael's Hill\, University of Br
 istol
SUMMARY:UK Universities and the Arms Industry – Challenging militarisatio
 n
END:VEVENT
END:VCALENDAR
